BEGIN:VCALENDAR
PRODID:-//Microsoft Corporation//Outlook 12.0 MIMEDIR//EN
VERSION:2.0
CALSCALE:GREGORIAN
BEGIN:VEVENT
UID: 89f393fc-4ec5-4d7c-8346-01763c85b40c
SUMMARY:TSIRGUPÄEV KIIKLAS
DTSTAMP:20260308
DTSTART:20260308
DTEND:20260309
DURATION:P1D
LOCATION:Kiikla
DESCRIPTION: <p><span style="font-family:&quot;Calibri&quot;,sans-serif;font-size:11.0pt;"><strong>TSIRGUPÄEV KIIKLAS</strong></span><br><span style="font-family:&quot;Calibri&quot;,sans-serif;font-size:11.0pt;"><strong>08.03.2026</strong></span><br><span style="font-family:&quot;Calibri&quot;,sans-serif;font-size:11.0pt;"><strong>12.00-15.00</strong></span></p><p>&nbsp;</p><p><span style="font-family:&quot;Calibri&quot;,sans-serif;font-size:11.0pt;">Sisu: rahvakalendri kombestik – tsirgupäev (9. märts) ja linnud eesti rahvatraditsioonis, pärimuslikud linnuteemalised laulumängud, linnuhäälitsused rahvakeeles ja meeles, rahvamängud, linnud kombestiku rituaalides ja loitsudes, linnuteemalised regilaulud. Koos rahvaga laulab, tantsib, mängib rahvamänge Terje Puistaja.&nbsp;</span></p><p>&nbsp;</p><p><strong>Link: </strong>https://www.parimuskool.ee/et/sundmuste-kalender/tsirgupaev-kiiklas</p><p><strong>Hind: </strong></p>
STATUS:CONFIRMED
SEQUENCE:3
X-ALT-DESC;FMTTYPE=text/html:<p><span style="font-family:&quot;Calibri&quot;,sans-serif;font-size:11.0pt;"><strong>TSIRGUPÄEV KIIKLAS</strong></span><br><span style="font-family:&quot;Calibri&quot;,sans-serif;font-size:11.0pt;"><strong>08.03.2026</strong></span><br><span style="font-family:&quot;Calibri&quot;,sans-serif;font-size:11.0pt;"><strong>12.00-15.00</strong></span></p><p>&nbsp;</p><p><span style="font-family:&quot;Calibri&quot;,sans-serif;font-size:11.0pt;">Sisu: rahvakalendri kombestik – tsirgupäev (9. märts) ja linnud eesti rahvatraditsioonis, pärimuslikud linnuteemalised laulumängud, linnuhäälitsused rahvakeeles ja meeles, rahvamängud, linnud kombestiku rituaalides ja loitsudes, linnuteemalised regilaulud. Koos rahvaga laulab, tantsib, mängib rahvamänge Terje Puistaja.&nbsp;</span></p><p>&nbsp;</p><p><strong>Link: </strong>https://www.parimuskool.ee/et/sundmuste-kalender/tsirgupaev-kiiklas</p><p><strong>Hind: </strong></p>
X-MICROSOFT-CDO-BUSYSTATUS:OOF
X-MICROSOFT-CDO-IMPORTANCE:1
X-MICROSOFT-DISALLOW-COUNTER:FALSE
X-MS-OLK-ALLOWEXTERNCHECK:TRUE
X-MS-OLK-CONFTYPE:0
X-MICROSOFT-CDO-ALLDAYEVENT:1
X-MICROSOFT-MSNCALENDAR-ALLDAYEVENT:1
END:VEVENT
END:VCALENDAR