BEGIN:VCALENDAR
PRODID:-//Microsoft Corporation//Outlook 12.0 MIMEDIR//EN
VERSION:2.0
CALSCALE:GREGORIAN
BEGIN:VEVENT
UID: d9db6fd0-c407-4b0c-90f7-28bff0efd1c7
SUMMARY:PÄRIMUSED BELGIAS! Kombestiku seminar noortele “LASKE MARDI LÄMMAESSE, MÄRTI, MÄRTI” Brüsselis
DTSTAMP:20231112T140000
DTSTART:20231112T140000
DTEND:20231112T150000
LOCATION:Belgia Eesti Kool, Orbanlaan 54, Brüssel
DESCRIPTION: <p>	Eesti Rahvapärimuse Kooli külaskäigu Belgia Eesti Kooli&nbsp;lõpetab mardikombestiku seminar</p><p>	Loeng-seminar “LASKE MARDI LÄMMAESSE, MÄRTI, MÄRTI”<br />	Kombestiku jutud, põnevaid slaidid, traditsioonid hingedeajast martide-kadrideni,<br />	ühine regilaulude laulmine, näidiskostümeerimine, pererahva katsumine.</p><p>	<em>Osalejad: 30-40 noort, täiskasvanut.</em></p><p><strong>Link: </strong>https://www.parimuskool.ee/et/sundmuste-kalender/parimused-belgias-kombestiku-seminar-noortele-laske-mardi-lammaesse-marti-marti-brusselis</p><p><strong>Hind: </strong></p>
STATUS:CONFIRMED
SEQUENCE:3
X-ALT-DESC;FMTTYPE=text/html:<p>	Eesti Rahvapärimuse Kooli külaskäigu Belgia Eesti Kooli&nbsp;lõpetab mardikombestiku seminar</p><p>	Loeng-seminar “LASKE MARDI LÄMMAESSE, MÄRTI, MÄRTI”<br />	Kombestiku jutud, põnevaid slaidid, traditsioonid hingedeajast martide-kadrideni,<br />	ühine regilaulude laulmine, näidiskostümeerimine, pererahva katsumine.</p><p>	<em>Osalejad: 30-40 noort, täiskasvanut.</em></p><p><strong>Link: </strong>https://www.parimuskool.ee/et/sundmuste-kalender/parimused-belgias-kombestiku-seminar-noortele-laske-mardi-lammaesse-marti-marti-brusselis</p><p><strong>Hind: </strong></p>
X-MICROSOFT-CDO-BUSYSTATUS:OOF
X-MICROSOFT-CDO-IMPORTANCE:1
X-MICROSOFT-DISALLOW-COUNTER:FALSE
X-MS-OLK-ALLOWEXTERNCHECK:TRUE
X-MS-OLK-CONFTYPE:0
X-MICROSOFT-CDO-ALLDAYEVENT:
X-MICROSOFT-MSNCALENDAR-ALLDAYEVENT:
END:VEVENT
END:VCALENDAR