BEGIN:VCALENDAR
PRODID:-//Microsoft Corporation//Outlook 12.0 MIMEDIR//EN
VERSION:2.0
CALSCALE:GREGORIAN
BEGIN:VEVENT
UID: 58f78497-842e-4ecf-82d8-4eed02ed74fc
SUMMARY:VIIS VILLAST, KUUS KULLAST, SEITSE SULASELGET Toilas
DTSTAMP:20220405T130000
DTSTART:20220405T130000
DTEND:20220405T140000
LOCATION:Toila Raamatukogu
DESCRIPTION: <p>	Eesti Rahvapärimuse Kool on esmakordselt külas Toila Raamatukogus.<br />	<br />	Pärimusprogramm&nbsp;laulumängudest, rahvamängudest<br />	<strong>„VIIS VILLAST, KUUS KULLAST, SEITSE SULASELGET“<br />	Rõõm mängimisest, improvisatsioon, rahvapärimused</strong><br />	&nbsp;<br />	Imevahva programm vanematest ja uuematest pärimusmängudest.<br />	Mängime, lustime ja selgeks saame seitse erinevat pärimusmängu.<br />	Programmis osalejad saavad vahvate pärimusmängudega õpilehe.<br />	<br />	Toimumisaeg<br />	13.00&nbsp;&nbsp;<strong>„Viis villast, kuus kullast, seitse sulaselget“&nbsp;</strong>- Toila Gümnaasiumi I klassi õpilastele<br />	<br />	<br />	Terje Puistaja: „Mängides unustame iseend, kehtestame oma maailma ja tunneme rõõmu sellest, mida teeme. See on väga-väga loominguline ja ettearvamatult lõbus tegevus, mis vabastab täiskasvanud igapäevamuredest ja annab lastele tagasi rõõmu ja spontaansuse. Olen jätkuvalt võlutud mängudest ja mängimisest.“<br />	&nbsp;</p><p>	<strong>Pärimusmängude&nbsp;programmid 2022. aasta kevadel&nbsp;saavad võimalikuks&nbsp;tänu Regionaalse kultuuritegevuse toetusele.</strong></p><p><strong>Link: </strong>https://www.parimuskool.ee/et/sundmuste-kalender/viis-villast-kuus-kullast-seitse-sulaselget-toilas</p><p><strong>Hind: </strong></p>
STATUS:CONFIRMED
SEQUENCE:3
X-ALT-DESC;FMTTYPE=text/html:<p>	Eesti Rahvapärimuse Kool on esmakordselt külas Toila Raamatukogus.<br />	<br />	Pärimusprogramm&nbsp;laulumängudest, rahvamängudest<br />	<strong>„VIIS VILLAST, KUUS KULLAST, SEITSE SULASELGET“<br />	Rõõm mängimisest, improvisatsioon, rahvapärimused</strong><br />	&nbsp;<br />	Imevahva programm vanematest ja uuematest pärimusmängudest.<br />	Mängime, lustime ja selgeks saame seitse erinevat pärimusmängu.<br />	Programmis osalejad saavad vahvate pärimusmängudega õpilehe.<br />	<br />	Toimumisaeg<br />	13.00&nbsp;&nbsp;<strong>„Viis villast, kuus kullast, seitse sulaselget“&nbsp;</strong>- Toila Gümnaasiumi I klassi õpilastele<br />	<br />	<br />	Terje Puistaja: „Mängides unustame iseend, kehtestame oma maailma ja tunneme rõõmu sellest, mida teeme. See on väga-väga loominguline ja ettearvamatult lõbus tegevus, mis vabastab täiskasvanud igapäevamuredest ja annab lastele tagasi rõõmu ja spontaansuse. Olen jätkuvalt võlutud mängudest ja mängimisest.“<br />	&nbsp;</p><p>	<strong>Pärimusmängude&nbsp;programmid 2022. aasta kevadel&nbsp;saavad võimalikuks&nbsp;tänu Regionaalse kultuuritegevuse toetusele.</strong></p><p><strong>Link: </strong>https://www.parimuskool.ee/et/sundmuste-kalender/viis-villast-kuus-kullast-seitse-sulaselget-toilas</p><p><strong>Hind: </strong></p>
X-MICROSOFT-CDO-BUSYSTATUS:OOF
X-MICROSOFT-CDO-IMPORTANCE:1
X-MICROSOFT-DISALLOW-COUNTER:FALSE
X-MS-OLK-ALLOWEXTERNCHECK:TRUE
X-MS-OLK-CONFTYPE:0
X-MICROSOFT-CDO-ALLDAYEVENT:
X-MICROSOFT-MSNCALENDAR-ALLDAYEVENT:
END:VEVENT
END:VCALENDAR